BEGIN:VCALENDAR
VERSION:2.0
PRODID:-//hacksw/handcal//NONSGML v1.0//EN
BEGIN:VEVENT
SUMMARY:RANDO DES OLIVIERS
UID:3f4cc1a2-7d3e-47c3-8852-e8e0184de969
DTSTART:20260523T050000Z
DTEND:20260523T073000Z
LOCATION:Localisation MAISON DES SPORTS 26 NYONS
CATEGORIES:Sportif
STATUS:
DESCRIPTION:<p>ROUTE 50 / 120 KM</p>
 
 <p>MARCHE 6 KM</p>
 
 <p>TARIF
 12€ FFCT 10€</p>
URL;VALUE=URI:https://www.velo-club-valrhona-tain-tournon.com/evenements/2026/05/23/rando-des-oliviers-2443531
END:VEVENT
END:VCALENDAR
